BEGIN:VCALENDAR
VERSION:2.0
PRODID:-//Level Up WCS - ECPv6.15.18//NONSGML v1.0//EN
CALSCALE:GREGORIAN
METHOD:PUBLISH
X-ORIGINAL-URL:https://levelupwcs.com
X-WR-CALDESC:Events for Level Up WCS
REFRESH-INTERVAL;VALUE=DURATION:PT1H
X-Robots-Tag:noindex
X-PUBLISHED-TTL:PT1H
BEGIN:VTIMEZONE
TZID:Australia/Perth
BEGIN:STANDARD
TZOFFSETFROM:+0800
TZOFFSETTO:+0800
TZNAME:AWST
DTSTART:20250101T000000
END:STANDARD
END:VTIMEZONE
BEGIN:VEVENT
DTSTART;TZID=Australia/Perth:20260221T190000
DTEND;TZID=Australia/Perth:20260221T220000
DTSTAMP:20260420T203051
CREATED:20260216T044557Z
LAST-MODIFIED:20260225T030829Z
UID:3030-1771700400-1771711200@levelupwcs.com
SUMMARY:Level Up Social + Mini Workshop | Feb 2026
DESCRIPTION:WCS Social + Mini-Workshop\n\nWe’re kicking off the 2026 Level Up WCS Socials + Mini-Workshops and you’re invited!\nJoin us for a relaxed\, feel-good night of West Coast Swing\, with plenty of social dancing and a short\, playful mini-workshop designed to get you moving\, connecting\, and smiling.\nWhat to expect:\n🖤 A friendly\, cruisy social atmosphere\n🎶 Great music\n💃 Loads of time on the floor\n✨ A mini-workshop that’s not serious… just fun movement\, connection\, and ideas you can play with straight away \nWhether you’ve been missing social dancing\, or just feel like a chill Saturday night out\, this is the perfect way to warm up for the new year and upcoming dance terms.\n📍 Empire Creative Studios\n⏰ 7:00–10:00pm (3 hours of dancing!)\n💰 $20 cash or card at the door or pay online in advance\n🚗 Free parking available at the venue\nBring your dance friends\, meet some new ones\, and let’s shake off the rust together.\nSee you on the floor 🖤✨ \nSchedule5:30pm – Pre-dance dinner @ Seven Mile Bar & Bistro (just across the road\, no booking needed)7:00pm – Doors open8:00pm – Mini Workshop8:30pm – 10:00pm Social dancing\n10:15pm Close \nNo matter where you usually dance or what level you are\, you’re welcome at Level Up WCS. Come connect\, learn\, and share the floor with West Coast Swing dancers from across Perth. \nWe’d love to see you there! Let’s share some laughs\, some learning\, and a lot of dancing.
URL:https://levelupwcs.com/event/social-dance-feb-26/
LOCATION:Empire Creative Studios\, 2/15 Halley Rd\, Balcatta\, Perth\, WA\, 6021\, Australia
CATEGORIES:Level Up WCS
ATTACH;FMTTYPE=image/jpeg:https://levelupwcs.com/wp-content/uploads/2026/02/WCS-Social-Workshop.jpg
END:VEVENT
END:VCALENDAR